BEGIN:VCALENDAR
VERSION:2.0
PRODID:icalendar-ruby
CALSCALE:GREGORIAN
METHOD:PUBLISH
BEGIN:VEVENT
DTSTAMP:20260421T153935Z
UID:2149699030
DTSTART:20260430T180000Z
DTEND:20260430T190000Z
CLASS:PUBLIC
DESCRIPTION:Embodied No
ORGANIZER;CN=:mailto:
SEQUENCE:1776785975
STATUS:CONFIRMED
SUMMARY:Embodied No
END:VEVENT
END:VCALENDAR
